BEGIN:VCALENDAR
VERSION:2.0
PRODID:-//wp-events-plugin.com//7.2.3.1//EN
TZID:Europe/Paris
X-WR-TIMEZONE:Europe/Paris
BEGIN:VEVENT
UID:54@jeudis.gobelins.fr
DTSTART;TZID=Europe/Paris:20230330T160000
DTEND;TZID=Europe/Paris:20230330T180000
DTSTAMP:20230216T133849Z
URL:https://jeudis.gobelins.fr/events/visite-des-ateliers-dart-du-musee-du
 -louvre-meet-the-louvre-museum-craftworkers/
SUMMARY:Visite des ateliers d'art du Musée du Louvre - Meet The Louvre Mus
 eum craftworkers
DESCRIPTION:Une visite privée pour GOBELINS des ateliers de métallerie\, 
 de tapisserie et de montage dessins du musée de Louvre !A private tour fo
 r GOBELINS of the metalwork\, tapestry and drawing assembly workshops of t
 he Louvre Museum!
ATTACH;FMTTYPE=image/jpeg:https://jeudis.gobelins.fr/wp-content/uploads/20
 23/02/Louvre.jpg
CATEGORIES:Expo - Visite
LOCATION:Musée du Louvre\, TBC\, Paris\, France
X-APPLE-STRUCTURED-LOCATION;VALUE=URI;X-ADDRESS=TBC\, Paris\, France;X-APPL
 E-RADIUS=100;X-TITLE=Musée du Louvre:geo:0,0
END:VEVENT
BEGIN:VTIMEZONE
TZID:Europe/Paris
X-LIC-LOCATION:Europe/Paris
BEGIN:DAYLIGHT
DTSTART:20230326T030000
TZOFFSETFROM:+0100
TZOFFSETTO:+0200
TZNAME:CEST
END:DAYLIGHT
END:VTIMEZONE
END:VCALENDAR