BEGIN:VCALENDAR
VERSION:2.0
PRODID:-//wp-events-plugin.com//7.2.3.1//EN
TZID:Europe/Paris
X-WR-TIMEZONE:Europe/Paris
BEGIN:VEVENT
UID:47@jeudis.gobelins.fr
DTSTART;TZID=Europe/Paris:20230202T140000
DTEND;TZID=Europe/Paris:20230202T153000
DTSTAMP:20230201T104359Z
URL:https://jeudis.gobelins.fr/events/video-mapping-project-marketplace/
SUMMARY:Video-mapping & VJing projects marketplace
DESCRIPTION:Vous avez envie de découvrir ou d'approfondir votre expérienc
 e du video-mapping ? Nous vous proposons plusieurs projets de mapping monu
 mental à réaliser d'ici le mois de mai\, ainsi qu'un projet de Vjing à 
 échéance plus tardive.Willing to discover or deepen your experience of v
 ideo-mapping? We offer several monumental mapping projects to be carried o
 ut by May\, ans also a Vjing collab. 
ATTACH;FMTTYPE=image/jpeg:https://jeudis.gobelins.fr/wp-content/uploads/20
 23/01/4.jpg
CATEGORIES:Projets créatifs/Creative projects
LOCATION:Campus Gambetta\, Salle 024 Room\, 247 avenue gambetta\, Paris\, F
 rance
X-APPLE-STRUCTURED-LOCATION;VALUE=URI;X-ADDRESS=247 avenue gambetta\, Paris
 \, France;X-APPLE-RADIUS=100;X-TITLE=Campus Gambetta\, Salle 024 Room:geo:
 0,0
END:VEVENT
BEGIN:VTIMEZONE
TZID:Europe/Paris
X-LIC-LOCATION:Europe/Paris
BEGIN:STANDARD
DTSTART:20221030T020000
TZOFFSETFROM:+0200
TZOFFSETTO:+0100
TZNAME:CET
END:STANDARD
END:VTIMEZONE
END:VCALENDAR