BEGIN:VCALENDAR
VERSION:2.0
PRODID:-//wp-events-plugin.com//7.2.3.1//EN
TZID:Europe/Paris
X-WR-TIMEZONE:Europe/Paris
BEGIN:VEVENT
UID:30@jeudis.gobelins.fr
DTSTART;TZID=Europe/Paris:20221101T160000
DTEND;TZID=Europe/Paris:20221101T170000
DTSTAMP:20221129T231446Z
URL:https://jeudis.gobelins.fr/events/projection-du-film-dunya-s-day/
SUMMARY:Projection du film Dunya' s Day
DESCRIPTION:Le film "Dunya' s Day" lauréat du Prix du Jury - Fiction inter
 nationale\, Festival du film de Sundance\, États-Unis\, 2019.Il sera proj
 eté en présence de son réalisateur\, Raed Alsemari\, un cinéaste origi
 naire de Riyad. Raed est diplômé d'études cinématographiques de la Tis
 ch School of the Arts (New York) après une licence à l'université de Ha
 rvard en histoire et en littérature\, avec une spécialisation en études
  postcoloniales. Son film qui reflète la créativité\, la culture et l'h
 umour Saoudiens.\n\nThe film "Dunya' s Day" won the Jury Prize - Internati
 onal Fiction\, Sundance Film Festival\, USA\, in 2019.It will be screened 
 in the presence of its director\, Raed Alsemari\, a filmmaker from Riyadh.
  Raed graduated from the Tisch School of the Arts (New York) with a degree
  in Film Studies after a degree from Harvard University in History and Lit
 erature\, with a specialization in Postcolonial Studies. His film reflects
  Saudi creativity\, culture and humour.\n
ATTACH;FMTTYPE=image/jpeg:https://jeudis.gobelins.fr/wp-content/uploads/20
 22/11/Dunya-s-Day.png
CATEGORIES:Conference
LOCATION:Campus Saint-Marcel\, Salle Pierre Ayma Room\, 73 boulevard saint-
 marcel\, Paris\, 75013\, France
X-APPLE-STRUCTURED-LOCATION;VALUE=URI;X-ADDRESS=73 boulevard saint-marcel\,
  Paris\, 75013\, France;X-APPLE-RADIUS=100;X-TITLE=Campus Saint-Marcel\, S
 alle Pierre Ayma Room:geo:0,0
END:VEVENT
BEGIN:VTIMEZONE
TZID:Europe/Paris
X-LIC-LOCATION:Europe/Paris
BEGIN:STANDARD
DTSTART:20221030T020000
TZOFFSETFROM:+0200
TZOFFSETTO:+0100
TZNAME:CET
END:STANDARD
END:VTIMEZONE
END:VCALENDAR