BEGIN:VCALENDAR
VERSION:2.0
PRODID:-//wp-events-plugin.com//7.2.3.1//EN
TZID:Europe/Paris
X-WR-TIMEZONE:Europe/Paris
BEGIN:VEVENT
UID:28@jeudis.gobelins.fr
DTSTART;TZID=Europe/Paris:20221201T153000
DTEND;TZID=Europe/Paris:20221201T173000
DTSTAMP:20221129T173448Z
URL:https://jeudis.gobelins.fr/events/lart-du-generique-rencontre-avec-ale
 xandre-vuillaume-tylski/
SUMMARY:L'art du générique - Rencontre avec Alexandre Vuillaume-Tylski
DESCRIPTION:L'art du générique - Rencontre avec Alexandre Vuillaume-Tylsk
 i
ATTACH;FMTTYPE=image/jpeg:https://jeudis.gobelins.fr/wp-content/uploads/20
 22/11/Alexandretylski.jpg
CATEGORIES:Conference
LOCATION:Campus Gambetta\, Salle 024 Room\, 247 avenue gambetta\, Paris\, F
 rance
X-APPLE-STRUCTURED-LOCATION;VALUE=URI;X-ADDRESS=247 avenue gambetta\, Paris
 \, France;X-APPLE-RADIUS=100;X-TITLE=Campus Gambetta\, Salle 024 Room:geo:
 0,0
END:VEVENT
BEGIN:VTIMEZONE
TZID:Europe/Paris
X-LIC-LOCATION:Europe/Paris
BEGIN:STANDARD
DTSTART:20221030T020000
TZOFFSETFROM:+0200
TZOFFSETTO:+0100
TZNAME:CET
END:STANDARD
END:VTIMEZONE
END:VCALENDAR