BEGIN:VCALENDAR
VERSION:2.0
PRODID:-//wp-events-plugin.com//7.2.3.1//EN
TZID:Europe/Paris
X-WR-TIMEZONE:Europe/Paris
BEGIN:VEVENT
UID:29@jeudis.gobelins.fr
DTSTART;TZID=Europe/Paris:20221201T140000
DTEND;TZID=Europe/Paris:20221201T153000
DTSTAMP:20221129T180224Z
URL:https://jeudis.gobelins.fr/events/lancement-de-projets-graphiques-et-m
 otion-design/
SUMMARY:Lancement de projets graphiques et Motion Design
DESCRIPTION:Comme chaque année\, on vous propose différents projets créa
 tifs (création visuelle ou motion design) en lien avec des associations e
 t des marques\, pour exercer votre créativité et enrichir vos books ! Ce
 tte année\, un challenge avec NFT autour des produits Picard\, des teaser
 s de festivals\, des collaborations créatives en vidéo\, des logos d'ass
 ociations...\n\nLes projets seront présentés en présentiel ou en ligne\
 , et la séance sera enregistrée !\n\nThis is our first annual session of
  presentation of various creative projects (visual creation or motion desi
 gn) in connection with associations and brands\, to exercise your creativi
 ty and enrich your books! This year\, a challenge with NFT around Picard p
 roducts\, festival teasers\, creative video collaborations\, NGO logos...\
 n\nThe projects will be presented face-to-face or online\, and the session
  will be recorded!
ATTACH;FMTTYPE=image/jpeg:https://jeudis.gobelins.fr/wp-content/uploads/20
 22/11/projets.jpg
CATEGORIES:Atelier
LOCATION:Campus Gambetta\, Salle 024 Room\, 247 avenue gambetta\, Paris\, F
 rance
X-APPLE-STRUCTURED-LOCATION;VALUE=URI;X-ADDRESS=247 avenue gambetta\, Paris
 \, France;X-APPLE-RADIUS=100;X-TITLE=Campus Gambetta\, Salle 024 Room:geo:
 0,0
END:VEVENT
BEGIN:VTIMEZONE
TZID:Europe/Paris
X-LIC-LOCATION:Europe/Paris
BEGIN:STANDARD
DTSTART:20221030T020000
TZOFFSETFROM:+0200
TZOFFSETTO:+0100
TZNAME:CET
END:STANDARD
END:VTIMEZONE
END:VCALENDAR