BEGIN:VCALENDAR
VERSION:2.0
PRODID:-//wp-events-plugin.com//7.2.3.1//EN
TZID:Europe/Paris
X-WR-TIMEZONE:Europe/Paris
BEGIN:VEVENT
UID:63@jeudis.gobelins.fr
DTSTART;TZID=Europe/Paris:20230420T150000
DTEND;TZID=Europe/Paris:20230420T160000
DTSTAMP:20230417T150220Z
URL:https://jeudis.gobelins.fr/events/jam-capsule-immersive-experience/
SUMMARY:Jam Capsule 360° Immersive Experience
DESCRIPTION:Une projection privée pour GOBELINS à Capsule Jam\, une expé
 rience 360° visuelle et sonore unique en EuropeA private screening for GO
 BELINS at Capsule Jam\, a 360° immersive experience unique in Europe! 
ATTACH;FMTTYPE=image/jpeg:https://jeudis.gobelins.fr/wp-content/uploads/20
 23/04/JAM-Capsule-scenographie-immersive-Videlio-4-scaled-1.jpg
CATEGORIES:Expo - Visite
LOCATION:Paris Expo - Porte de Versailles\, 2 Av. de la Porte de la Plaine\
 , Paris\, France\, 75015\, France
X-APPLE-STRUCTURED-LOCATION;VALUE=URI;X-ADDRESS=2 Av. de la Porte de la Pla
 ine\, Paris\, France\, 75015\, France;X-APPLE-RADIUS=100;X-TITLE=Paris Exp
 o - Porte de Versailles:geo:0,0
END:VEVENT
BEGIN:VTIMEZONE
TZID:Europe/Paris
X-LIC-LOCATION:Europe/Paris
BEGIN:DAYLIGHT
DTSTART:20230326T030000
TZOFFSETFROM:+0100
TZOFFSETTO:+0200
TZNAME:CEST
END:DAYLIGHT
END:VTIMEZONE
END:VCALENDAR