BEGIN:VCALENDAR
VERSION:2.0
PRODID:-//wp-events-plugin.com//7.2.3.1//EN
TZID:Europe/Paris
X-WR-TIMEZONE:Europe/Paris
BEGIN:VEVENT
UID:34@jeudis.gobelins.fr
DTSTART;TZID=Europe/Paris:20230119T143000
DTEND;TZID=Europe/Paris:20230119T163000
DTSTAMP:20230111T114022Z
URL:https://jeudis.gobelins.fr/events/improvisation-workshop-atelier-theat
 re-impro/
SUMMARY:Improvisation workshop - Atelier théâtre impro
DESCRIPTION:Une nouvelle activité pour commencer l'année\, un workshop r
 égulier d'improvisation théâtrale ! On parle français et anglais !A ne
 w activity to begin the year\, this weekly improvisation workshop! French 
 and english spoken!
ATTACH;FMTTYPE=image/jpeg:https://jeudis.gobelins.fr/wp-content/uploads/20
 23/01/impro.jpg
CATEGORIES:Atelier
LOCATION:Campus Saint-Marcel\, Salle 407 Room\, 73\, Bd Saint-Marcel\, Pari
 s\, France
X-APPLE-STRUCTURED-LOCATION;VALUE=URI;X-ADDRESS=73\, Bd Saint-Marcel\, Pari
 s\, France;X-APPLE-RADIUS=100;X-TITLE=Campus Saint-Marcel\, Salle 407 Room
 :geo:0,0
END:VEVENT
BEGIN:VTIMEZONE
TZID:Europe/Paris
X-LIC-LOCATION:Europe/Paris
BEGIN:STANDARD
DTSTART:20221030T020000
TZOFFSETFROM:+0200
TZOFFSETTO:+0100
TZNAME:CET
END:STANDARD
END:VTIMEZONE
END:VCALENDAR