BEGIN:VCALENDAR
VERSION:2.0
PRODID:-//wp-events-plugin.com//7.2.3.1//EN
TZID:Europe/Paris
X-WR-TIMEZONE:Europe/Paris
BEGIN:VEVENT
UID:65@jeudis.gobelins.fr
DTSTART;TZID=Europe/Paris:20230420T143000
DTEND;TZID=Europe/Paris:20230420T163000
DTSTAMP:20230419T060228Z
URL:https://jeudis.gobelins.fr/events/improvisation-workshop-atelier-theat
 re-impro-9/
SUMMARY:Improvisation workshop - Atelier théâtre impro
DESCRIPTION:Il ne s’agit pas d’un cours de théâtre mais bien plutôt 
 d’un atelier où l’on se nourrit des envies et des imaginaires de chac
 un.e. On parle français et anglais !It is not a theater class but rather 
 a workshop where we feed on the desires and imaginations of each participa
 nt. French and english spoken!
ATTACH;FMTTYPE=image/jpeg:https://jeudis.gobelins.fr/wp-content/uploads/20
 23/01/impro.jpg
CATEGORIES:Atelier
LOCATION:Campus Saint-Marcel - Salle 318 Room\, 73 boulevard saint-marcel\,
  paris\, 75013\, France
X-APPLE-STRUCTURED-LOCATION;VALUE=URI;X-ADDRESS=73 boulevard saint-marcel\,
  paris\, 75013\, France;X-APPLE-RADIUS=100;X-TITLE=Campus Saint-Marcel - S
 alle 318 Room:geo:0,0
END:VEVENT
BEGIN:VTIMEZONE
TZID:Europe/Paris
X-LIC-LOCATION:Europe/Paris
BEGIN:DAYLIGHT
DTSTART:20230326T030000
TZOFFSETFROM:+0100
TZOFFSETTO:+0200
TZNAME:CEST
END:DAYLIGHT
END:VTIMEZONE
END:VCALENDAR