BEGIN:VCALENDAR
VERSION:2.0
PRODID:-//wp-events-plugin.com//7.2.3.1//EN
TZID:Europe/Paris
X-WR-TIMEZONE:Europe/Paris
BEGIN:VEVENT
UID:60@jeudis.gobelins.fr
DTSTART;TZID=Europe/Paris:20230316T143000
DTEND;TZID=Europe/Paris:20230316T163000
DTSTAMP:20230315T103707Z
URL:https://jeudis.gobelins.fr/events/improvisation-workshop-atelier-theat
 re-impro-8/
SUMMARY:Improvisation workshop - Atelier théâtre impro
DESCRIPTION:Il ne s’agit pas d’un cours de théâtre mais bien plutôt 
 d’un atelier où l’on se nourrit des envies et des imaginaires de chac
 un.e. On parle français et anglais !It is not a theater class but rather 
 a workshop where we feed on the desires and imaginations of each participa
 nt. French and english spoken!
ATTACH;FMTTYPE=image/jpeg:https://jeudis.gobelins.fr/wp-content/uploads/20
 23/01/impro.jpg
CATEGORIES:Atelier
LOCATION:Campus Saint-Marcel\, Salle 407 Room\, 73\, Bd Saint-Marcel\, Pari
 s\, France
X-APPLE-STRUCTURED-LOCATION;VALUE=URI;X-ADDRESS=73\, Bd Saint-Marcel\, Pari
 s\, France;X-APPLE-RADIUS=100;X-TITLE=Campus Saint-Marcel\, Salle 407 Room
 :geo:0,0
END:VEVENT
BEGIN:VTIMEZONE
TZID:Europe/Paris
X-LIC-LOCATION:Europe/Paris
BEGIN:STANDARD
DTSTART:20221030T020000
TZOFFSETFROM:+0200
TZOFFSETTO:+0100
TZNAME:CET
END:STANDARD
END:VTIMEZONE
END:VCALENDAR