BEGIN:VCALENDAR
VERSION:2.0
PRODID:-//wp-events-plugin.com//7.2.3.1//EN
TZID:Europe/Paris
X-WR-TIMEZONE:Europe/Paris
BEGIN:VEVENT
UID:73@jeudis.gobelins.fr
DTSTART;TZID=Europe/Paris:20231123T143000
DTEND;TZID=Europe/Paris:20231123T163000
DTSTAMP:20231116T113026Z
URL:https://jeudis.gobelins.fr/events/improvisation-workshop-atelier-theat
 re-impro-10/
SUMMARY:Improvisation workshop - Atelier théâtre impro
DESCRIPTION:Une nouvelle activité pour commencer l'année\, un workshop r
 égulier d'improvisation théâtrale ! On parle français et anglais !A ne
 w activity to begin the year\, this weekly improvisation workshop! French 
 and english spoken!
ATTACH;FMTTYPE=image/jpeg:https://jeudis.gobelins.fr/wp-content/uploads/20
 23/01/impro.jpg
CATEGORIES:Atelier
LOCATION:Campus Saint-Marcel - Salle 318 Room\, 73 boulevard saint-marcel\,
  paris\, 75013\, France
X-APPLE-STRUCTURED-LOCATION;VALUE=URI;X-ADDRESS=73 boulevard saint-marcel\,
  paris\, 75013\, France;X-APPLE-RADIUS=100;X-TITLE=Campus Saint-Marcel - S
 alle 318 Room:geo:0,0
END:VEVENT
BEGIN:VTIMEZONE
TZID:Europe/Paris
X-LIC-LOCATION:Europe/Paris
BEGIN:STANDARD
DTSTART:20231029T020000
TZOFFSETFROM:+0200
TZOFFSETTO:+0100
TZNAME:CET
END:STANDARD
END:VTIMEZONE
END:VCALENDAR