BEGIN:VCALENDAR
VERSION:2.0
PRODID:-//wp-events-plugin.com//7.2.3.1//EN
TZID:Europe/Paris
X-WR-TIMEZONE:Europe/Paris
BEGIN:VEVENT
UID:66@jeudis.gobelins.fr
DTSTART;TZID=Europe/Paris:20230928T143000
DTEND;TZID=Europe/Paris:20230928T170000
DTSTAMP:20230924T103106Z
URL:https://jeudis.gobelins.fr/events/club-donjons-dragons-kick-off/
SUMMARY:Club Donjons & Dragons Kick-off
DESCRIPTION:Lancement du club Donjons & Dragons ! club Donjons & Dragons ki
 ck-off!
ATTACH;FMTTYPE=image/jpeg:https://jeudis.gobelins.fr/wp-content/uploads/20
 23/09/DD-scaled.jpg
CATEGORIES:Atelier
LOCATION:Campus Saint-Marcel\, Salle 028 Room\, 73\, Bd Saint-Marcel\, Pari
 s\, France
X-APPLE-STRUCTURED-LOCATION;VALUE=URI;X-ADDRESS=73\, Bd Saint-Marcel\, Pari
 s\, France;X-APPLE-RADIUS=100;X-TITLE=Campus Saint-Marcel\, Salle 028 Room
 :geo:0,0
END:VEVENT
BEGIN:VTIMEZONE
TZID:Europe/Paris
X-LIC-LOCATION:Europe/Paris
BEGIN:DAYLIGHT
DTSTART:20230326T030000
TZOFFSETFROM:+0100
TZOFFSETTO:+0200
TZNAME:CEST
END:DAYLIGHT
END:VTIMEZONE
END:VCALENDAR