BEGIN:VCALENDAR
VERSION:2.0
PRODID:-//wp-events-plugin.com//7.2.3.1//EN
TZID:Europe/Paris
X-WR-TIMEZONE:Europe/Paris
BEGIN:VEVENT
UID:68@jeudis.gobelins.fr
DTSTART;TZID=Europe/Paris:20231005T150000
DTEND;TZID=Europe/Paris:20231005T180000
DTSTAMP:20231003T062856Z
URL:https://jeudis.gobelins.fr/events/cine-club-19/
SUMMARY:Ciné-Club
DESCRIPTION:Pour sa rentrée\, le Ciné-club joue "Le Bal" d'Ettore Scola e
 n présence du scénariste et d'acteurs du film à 15 heures. The Ciné-cl
 ub opening session plays  "Le Bal" by Ettore Scola at 3:00 pm. The script
 writer and actors of the movie will attend!
ATTACH;FMTTYPE=image/jpeg:https://jeudis.gobelins.fr/wp-content/uploads/20
 23/10/affiche_le_bal.jpeg
CATEGORIES:Ciné-club
LOCATION:Campus Saint-Marcel\, Salle Pierre Ayma Room\, 73 boulevard saint-
 marcel\, Paris\, 75013\, France
X-APPLE-STRUCTURED-LOCATION;VALUE=URI;X-ADDRESS=73 boulevard saint-marcel\,
  Paris\, 75013\, France;X-APPLE-RADIUS=100;X-TITLE=Campus Saint-Marcel\, S
 alle Pierre Ayma Room:geo:0,0
END:VEVENT
BEGIN:VTIMEZONE
TZID:Europe/Paris
X-LIC-LOCATION:Europe/Paris
BEGIN:DAYLIGHT
DTSTART:20230326T030000
TZOFFSETFROM:+0100
TZOFFSETTO:+0200
TZNAME:CEST
END:DAYLIGHT
END:VTIMEZONE
END:VCALENDAR