BEGIN:VCALENDAR
VERSION:2.0
PRODID:-//wp-events-plugin.com//7.2.3.1//EN
TZID:Europe/Paris
X-WR-TIMEZONE:Europe/Paris
BEGIN:VEVENT
UID:61@jeudis.gobelins.fr
DTSTART;TZID=Europe/Paris:20230330T170000
DTEND;TZID=Europe/Paris:20230330T193000
DTSTAMP:20230329T071411Z
URL:https://jeudis.gobelins.fr/events/cine-club-17/
SUMMARY:Ciné-Club
DESCRIPTION:Le Ciné-club joue "Twilight Tentation" de Chris Weitz (2009) 
 à 17 heures. The Ciné-club plays  "Twilight Tentation" by Chris Weitz (
 2009) at 5:00 pm.
ATTACH;FMTTYPE=image/jpeg:https://jeudis.gobelins.fr/wp-content/uploads/20
 23/03/bella-affiche.png
CATEGORIES:Ciné-club
LOCATION:Campus Saint-Marcel\, Salle Pierre Ayma Room\, 73 boulevard saint-
 marcel\, Paris\, 75013\, France
X-APPLE-STRUCTURED-LOCATION;VALUE=URI;X-ADDRESS=73 boulevard saint-marcel\,
  Paris\, 75013\, France;X-APPLE-RADIUS=100;X-TITLE=Campus Saint-Marcel\, S
 alle Pierre Ayma Room:geo:0,0
END:VEVENT
BEGIN:VTIMEZONE
TZID:Europe/Paris
X-LIC-LOCATION:Europe/Paris
BEGIN:DAYLIGHT
DTSTART:20230326T030000
TZOFFSETFROM:+0100
TZOFFSETTO:+0200
TZNAME:CEST
END:DAYLIGHT
END:VTIMEZONE
END:VCALENDAR