BEGIN:VCALENDAR
VERSION:2.0
PRODID:-//wp-events-plugin.com//7.2.3.1//EN
TZID:Europe/Paris
X-WR-TIMEZONE:Europe/Paris
BEGIN:VEVENT
UID:58@jeudis.gobelins.fr
DTSTART;TZID=Europe/Paris:20230316T170000
DTEND;TZID=Europe/Paris:20230316T193000
DTSTAMP:20230315T150617Z
URL:https://jeudis.gobelins.fr/events/cine-club-16/
SUMMARY:Ciné-Club
DESCRIPTION:Le Ciné-club joue "Dofus" de Anthony Roux et Jean-Jacques Deni
 s (2015) à 17 heures. The Ciné-club plays  "Dofus" by Anthony Roux and 
 Jean-Jacques Denis (2015) at 5:00 pm.
ATTACH;FMTTYPE=image/jpeg:https://jeudis.gobelins.fr/wp-content/uploads/20
 23/03/domfus-1.png
CATEGORIES:Ciné-club
LOCATION:Campus Saint-Marcel\, Salle Pierre Ayma Room\, 73 boulevard saint-
 marcel\, Paris\, 75013\, France
X-APPLE-STRUCTURED-LOCATION;VALUE=URI;X-ADDRESS=73 boulevard saint-marcel\,
  Paris\, 75013\, France;X-APPLE-RADIUS=100;X-TITLE=Campus Saint-Marcel\, S
 alle Pierre Ayma Room:geo:0,0
END:VEVENT
BEGIN:VTIMEZONE
TZID:Europe/Paris
X-LIC-LOCATION:Europe/Paris
BEGIN:STANDARD
DTSTART:20221030T020000
TZOFFSETFROM:+0200
TZOFFSETTO:+0100
TZNAME:CET
END:STANDARD
END:VTIMEZONE
END:VCALENDAR