BEGIN:VCALENDAR
VERSION:2.0
PRODID:-//wp-events-plugin.com//7.2.3.1//EN
TZID:Europe/Paris
X-WR-TIMEZONE:Europe/Paris
BEGIN:VEVENT
UID:56@jeudis.gobelins.fr
DTSTART;TZID=Europe/Paris:20230309T150000
DTEND;TZID=Europe/Paris:20230309T190000
DTSTAMP:20230308T104815Z
URL:https://jeudis.gobelins.fr/events/cine-club-15/
SUMMARY:Ciné-Club
DESCRIPTION:Le Ciné-club joue "Maman pleut des cordes" de Hugo de Faucompr
 et et Javier Navarro (2021) à 15 heures en présence de Hugo de Faucompre
 t. The Ciné-club plays  "Maman pleut des cordes" by Hugo de Faucompret e
 t Javier Navarro (2021) at 3:00 pm. Hugo de Faucompret  will participate t
 o the screening and the discussion
ATTACH;FMTTYPE=image/jpeg:https://jeudis.gobelins.fr/wp-content/uploads/20
 23/03/MamanPleutDesCordes2.png
CATEGORIES:Ciné-club
LOCATION:Campus Saint-Marcel\, Salle Pierre Ayma Room\, 73 boulevard saint-
 marcel\, Paris\, 75013\, France
X-APPLE-STRUCTURED-LOCATION;VALUE=URI;X-ADDRESS=73 boulevard saint-marcel\,
  Paris\, 75013\, France;X-APPLE-RADIUS=100;X-TITLE=Campus Saint-Marcel\, S
 alle Pierre Ayma Room:geo:0,0
END:VEVENT
BEGIN:VTIMEZONE
TZID:Europe/Paris
X-LIC-LOCATION:Europe/Paris
BEGIN:STANDARD
DTSTART:20221030T020000
TZOFFSETFROM:+0200
TZOFFSETTO:+0100
TZNAME:CET
END:STANDARD
END:VTIMEZONE
END:VCALENDAR