BEGIN:VCALENDAR
VERSION:2.0
PRODID:-//wp-events-plugin.com//7.2.3.1//EN
TZID:Europe/Paris
X-WR-TIMEZONE:Europe/Paris
BEGIN:VEVENT
UID:41@jeudis.gobelins.fr
DTSTART;TZID=Europe/Paris:20230406T173000
DTEND;TZID=Europe/Paris:20230406T190000
DTSTAMP:20230120T142502Z
URL:https://jeudis.gobelins.fr/events/bla-latelier-de-la-voix-4/
SUMMARY:Bla! L'atelier de la voix
DESCRIPTION:Parler à l’oral est un problème pour vous? La gorge nouée\
 , le souffle court\, mal au ventre ou les genoux qui claquent? Et bien ce 
 séminaire est fait pour vous!This workshop is french-speaking only!
ATTACH;FMTTYPE=image/jpeg:https://jeudis.gobelins.fr/wp-content/uploads/20
 22/03/BLA-visuel-scaled.jpg
CATEGORIES:Atelier
LOCATION:Campus Gambetta\, Showroom\, 247 avenue gambetta\, paris\, France
X-APPLE-STRUCTURED-LOCATION;VALUE=URI;X-ADDRESS=247 avenue gambetta\, paris
 \, France;X-APPLE-RADIUS=100;X-TITLE=Campus Gambetta\, Showroom:geo:0,0
END:VEVENT
BEGIN:VTIMEZONE
TZID:Europe/Paris
X-LIC-LOCATION:Europe/Paris
BEGIN:DAYLIGHT
DTSTART:20230326T030000
TZOFFSETFROM:+0100
TZOFFSETTO:+0200
TZNAME:CEST
END:DAYLIGHT
END:VTIMEZONE
END:VCALENDAR