BEGIN:VCALENDAR
VERSION:2.0
PRODID:-//wp-events-plugin.com//7.2.3.1//EN
TZID:Europe/Paris
X-WR-TIMEZONE:Europe/Paris
BEGIN:VEVENT
UID:70@jeudis.gobelins.fr
DTSTART;TZID=Europe/Paris:20231109T140000
DTEND;TZID=Europe/Paris:20231109T150000
DTSTAMP:20231109T112643Z
URL:https://jeudis.gobelins.fr/events/audio-network-mettes-gobelins/
SUMMARY:Audio Network Meets GOBELINS
DESCRIPTION:Présentation du catalogue musical Audio NetworkThe Audio Netwo
 rk musical bank introduce themselves
ATTACH;FMTTYPE=image/jpeg:https://jeudis.gobelins.fr/wp-content/uploads/20
 23/11/Banniere-La-Musique-a-Votre-Image.jpg
CATEGORIES:Conference
LOCATION:Campus Gambetta\, Salle 024 Room\, 247 avenue gambetta\, Paris\, F
 rance
X-APPLE-STRUCTURED-LOCATION;VALUE=URI;X-ADDRESS=247 avenue gambetta\, Paris
 \, France;X-APPLE-RADIUS=100;X-TITLE=Campus Gambetta\, Salle 024 Room:geo:
 0,0
END:VEVENT
BEGIN:VTIMEZONE
TZID:Europe/Paris
X-LIC-LOCATION:Europe/Paris
BEGIN:STANDARD
DTSTART:20231029T020000
TZOFFSETFROM:+0200
TZOFFSETTO:+0100
TZNAME:CET
END:STANDARD
END:VTIMEZONE
END:VCALENDAR