BEGIN:VCALENDAR
VERSION:2.0
PRODID:-//wp-events-plugin.com//7.2.3.1//EN
TZID:Europe/Paris
X-WR-TIMEZONE:Europe/Paris
BEGIN:VEVENT
UID:64@jeudis.gobelins.fr
DTSTART;TZID=Europe/Paris:20230511T140000
DTEND;TZID=Europe/Paris:20230511T160000
DTSTAMP:20230417T161838Z
URL:https://jeudis.gobelins.fr/events/atelier-experience-et-modele-vivant-
 live-model-experiment-drawing-workshop/
SUMMARY:ATELIER "EXPERIENCE ET MODELE VIVANT"/"LIVE MODEL EXPERIMENT" DRAWI
 NG WORKSHOP
DESCRIPTION:Une séance de dessin avec modèle un peu particulière\, où v
 otre regard sur le physique sera questionné...   A particular session of 
 the living model drawing workshop\, during which your glance on the physic
 al aspect will be questioned... 
ATTACH;FMTTYPE=image/jpeg:https://jeudis.gobelins.fr/wp-content/uploads/20
 23/04/Visuel_Jeudis_Creatifs-.png
CATEGORIES:Atelier
LOCATION:Studio 307 Campus Saint-Marcel\, 73\, Bd Saint-Marcel\, Paris\, 75
 013\, France
X-APPLE-STRUCTURED-LOCATION;VALUE=URI;X-ADDRESS=73\, Bd Saint-Marcel\, Pari
 s\, 75013\, France;X-APPLE-RADIUS=100;X-TITLE=Studio 307 Campus Saint-Marc
 el:geo:0,0
END:VEVENT
BEGIN:VTIMEZONE
TZID:Europe/Paris
X-LIC-LOCATION:Europe/Paris
BEGIN:DAYLIGHT
DTSTART:20230326T030000
TZOFFSETFROM:+0100
TZOFFSETTO:+0200
TZNAME:CEST
END:DAYLIGHT
END:VTIMEZONE
END:VCALENDAR