BEGIN:VCALENDAR
VERSION:2.0
PRODID:-//wp-events-plugin.com//7.2.3.1//EN
TZID:Europe/Paris
X-WR-TIMEZONE:Europe/Paris
BEGIN:VEVENT
UID:31@jeudis.gobelins.fr
DTSTART;TZID=Europe/Paris:20221215T140000
DTEND;TZID=Europe/Paris:20221215T170000
DTSTAMP:20221129T231335Z
URL:https://jeudis.gobelins.fr/events/atelier-dirige-dessin-narratif-narra
 tive-directed-drawing-workshop-2/
SUMMARY:ATELIER DIRIGE DESSIN NARRATIF/NARRATIVE DIRECTED DRAWING WORKSHOP
DESCRIPTION:Un atelier de dessin narratif avec comédien dirigé par Olivie
 r Thévin.Olivier Thévin will conduct this workshop\, oriented on narrati
 ve drawing with an actor..
ATTACH;FMTTYPE=image/jpeg:https://jeudis.gobelins.fr/wp-content/uploads/20
 22/10/dessinthevin.jpg
CATEGORIES:Atelier
LOCATION:Campus Saint-Marcel\, Salle 407 Room\, 73\, Bd Saint-Marcel\, Pari
 s\, France
X-APPLE-STRUCTURED-LOCATION;VALUE=URI;X-ADDRESS=73\, Bd Saint-Marcel\, Pari
 s\, France;X-APPLE-RADIUS=100;X-TITLE=Campus Saint-Marcel\, Salle 407 Room
 :geo:0,0
END:VEVENT
BEGIN:VTIMEZONE
TZID:Europe/Paris
X-LIC-LOCATION:Europe/Paris
BEGIN:STANDARD
DTSTART:20221030T020000
TZOFFSETFROM:+0200
TZOFFSETTO:+0100
TZNAME:CET
END:STANDARD
END:VTIMEZONE
END:VCALENDAR