BEGIN:VCALENDAR
VERSION:2.0
PRODID:-//wp-events-plugin.com//7.2.3.1//EN
TZID:Europe/Paris
X-WR-TIMEZONE:Europe/Paris
BEGIN:VEVENT
UID:37@jeudis.gobelins.fr
DTSTART;TZID=Europe/Paris:20230124T103000
DTEND;TZID=Europe/Paris:20230124T160000
DTSTAMP:20230118T170428Z
URL:https://jeudis.gobelins.fr/events/achetez-des-livres-a-prix-reduits-bu
 y-discounted-books/
SUMMARY:Achetez des livres d'art à prix réduits ! Buy discounted design b
 ooks!
DESCRIPTION:\n\nAchetez des livres à prix réduits !\nMardi prochain sur l
 e campus de Saint Marcel nous avons la visite du libraire François THIB
 AUD qui proposera des ouvrages sur le graphisme\, l'illustration\, le cin
 éma etc à prix réduits.\nVous le trouverez à la cafétéria à partir 
 de 10h30 jusqu'en milieu d'après midi.\n\nBuy discounted books!\nNext tue
 sday on Saint-Marcel campus we will host the bookseller François THIBAUD\
 , who will propose discounted books about graphic design\, illustration\, 
 cinema etc\n\nYou will find him at the cafeteria from 10:30am to mid afte
 rnoon.
ATTACH;FMTTYPE=image/jpeg:https://jeudis.gobelins.fr/wp-content/uploads/20
 23/01/Capture.jpg
LOCATION:cafeteriat Campus Saint-Marcel\, 73\, Bd Saint-Marcel\, Paris\, Fr
 ance
X-APPLE-STRUCTURED-LOCATION;VALUE=URI;X-ADDRESS=73\, Bd Saint-Marcel\, Pari
 s\, France;X-APPLE-RADIUS=100;X-TITLE=cafeteriat Campus Saint-Marcel:geo:0
 ,0
END:VEVENT
BEGIN:VTIMEZONE
TZID:Europe/Paris
X-LIC-LOCATION:Europe/Paris
BEGIN:STANDARD
DTSTART:20221030T020000
TZOFFSETFROM:+0200
TZOFFSETTO:+0100
TZNAME:CET
END:STANDARD
END:VTIMEZONE
END:VCALENDAR